BEGIN:VCALENDAR
VERSION:2.0
PRODID:-//Carlisle Sports Emporium - ECPv5.2.1//NONSGML v1.0//EN
CALSCALE:GREGORIAN
METHOD:PUBLISH
X-WR-CALNAME:Carlisle Sports Emporium
X-ORIGINAL-URL:https://www.carlislesportsemporium.com
X-WR-CALDESC:Events for Carlisle Sports Emporium
BEGIN:VTIMEZONE
TZID:UTC
BEGIN:STANDARD
TZOFFSETFROM:+0000
TZOFFSETTO:+0000
TZNAME:UTC
DTSTART:20180101T000000
END:STANDARD
END:VTIMEZONE
BEGIN:VEVENT
DTSTART;VALUE=DATE:20180320
DTEND;VALUE=DATE:20180321
DTSTAMP:20260421T044912
CREATED:20180316T201221Z
LAST-MODIFIED:20190612T144616Z
UID:1797-1521504000-1521590399@www.carlislesportsemporium.com
SUMMARY:1st Day of Spring Special
DESCRIPTION:Celebrate the first day of spring with 1 FREE Go-kart Ride/person! (Must be used on specified date only. 1 per person.)
URL:https://www.carlislesportsemporium.com/event/1st-day-of-spring-special/
LOCATION:Carlisle Sports Emporium\, 29 S Middlesex Road\, Carlisle\, PA\, 17015\, United States
CATEGORIES:Special Events
END:VEVENT
END:VCALENDAR