BEGIN:VCALENDAR
VERSION:2.0
PRODID:-//Carlisle Sports Emporium - ECPv5.2.1//NONSGML v1.0//EN
CALSCALE:GREGORIAN
METHOD:PUBLISH
X-WR-CALNAME:Carlisle Sports Emporium
X-ORIGINAL-URL:https://www.carlislesportsemporium.com
X-WR-CALDESC:Events for Carlisle Sports Emporium
BEGIN:VTIMEZONE
TZID:UTC
BEGIN:STANDARD
TZOFFSETFROM:+0000
TZOFFSETTO:+0000
TZNAME:UTC
DTSTART:20180101T000000
END:STANDARD
END:VTIMEZONE
BEGIN:VEVENT
DTSTART;VALUE=DATE:20180419
DTEND;VALUE=DATE:20180420
DTSTAMP:20260424T071516
CREATED:20180403T073239Z
LAST-MODIFIED:20190612T144801Z
UID:2303-1524096000-1524182399@www.carlislesportsemporium.com
SUMMARY:College Night!
DESCRIPTION:College students receive a Full Session of Lasertron Laser Tag & a ride on the Go-karts for the low price of $21/person! To guarantee your spot in the session you want\, purchase your ticket over the phone at 717-258-4741 & be sure to mention College Night. *Must show valid College I
URL:https://www.carlislesportsemporium.com/event/college-night/
LOCATION:Carlisle Sports Emporium\, 29 S Middlesex Road\, Carlisle\, PA\, 17015\, United States
CATEGORIES:Special Events
END:VEVENT
END:VCALENDAR