BEGIN:VCALENDAR
VERSION:2.0
PRODID:-//Carlisle Sports Emporium - ECPv5.2.1//NONSGML v1.0//EN
CALSCALE:GREGORIAN
METHOD:PUBLISH
X-WR-CALNAME:Carlisle Sports Emporium
X-ORIGINAL-URL:https://www.carlislesportsemporium.com
X-WR-CALDESC:Events for Carlisle Sports Emporium
BEGIN:VTIMEZONE
TZID:UTC
BEGIN:STANDARD
TZOFFSETFROM:+0000
TZOFFSETTO:+0000
TZNAME:UTC
DTSTART:20180101T000000
END:STANDARD
END:VTIMEZONE
BEGIN:VEVENT
DTSTART;VALUE=DATE:20180402
DTEND;VALUE=DATE:20180403
DTSTAMP:20260421T043749
CREATED:20180403T073145Z
LAST-MODIFIED:20190612T144730Z
UID:2301-1522627200-1522713599@www.carlislesportsemporium.com
SUMMARY:Easter Monday
DESCRIPTION:Celebrate Easter Monday with a FREE upgrade to the $20 Reloadable Play Card on the Dynamic Double Deal! A $70 value for only $45.00! (4/2/18 Only. Must be used on specified date only. 1 per person.)
URL:https://www.carlislesportsemporium.com/event/easter-monday/
LOCATION:Carlisle Sports Emporium\, 29 S Middlesex Road\, Carlisle\, PA\, 17015\, United States
CATEGORIES:Special Events
END:VEVENT
END:VCALENDAR